BEGIN:VCALENDAR
VERSION:2.0
PRODID:-//Les Cliniques Auditives Monnière inc. - ECPv6.15.15//NONSGML v1.0//EN
CALSCALE:GREGORIAN
METHOD:PUBLISH
X-WR-CALNAME:Les Cliniques Auditives Monnière inc.
X-ORIGINAL-URL:https://monniere.ca
X-WR-CALDESC:Évènements pour Les Cliniques Auditives Monnière inc.
REFRESH-INTERVAL;VALUE=DURATION:PT1H
X-Robots-Tag:noindex
X-PUBLISHED-TTL:PT1H
BEGIN:VTIMEZONE
TZID:America/Toronto
BEGIN:DAYLIGHT
TZOFFSETFROM:-0500
TZOFFSETTO:-0400
TZNAME:EDT
DTSTART:20250309T070000
END:DAYLIGHT
BEGIN:STANDARD
TZOFFSETFROM:-0400
TZOFFSETTO:-0500
TZNAME:EST
DTSTART:20251102T060000
END:STANDARD
BEGIN:DAYLIGHT
TZOFFSETFROM:-0500
TZOFFSETTO:-0400
TZNAME:EDT
DTSTART:20260308T070000
END:DAYLIGHT
BEGIN:STANDARD
TZOFFSETFROM:-0400
TZOFFSETTO:-0500
TZNAME:EST
DTSTART:20261101T060000
END:STANDARD
BEGIN:DAYLIGHT
TZOFFSETFROM:-0500
TZOFFSETTO:-0400
TZNAME:EDT
DTSTART:20270314T070000
END:DAYLIGHT
BEGIN:STANDARD
TZOFFSETFROM:-0400
TZOFFSETTO:-0500
TZNAME:EST
DTSTART:20271107T060000
END:STANDARD
END:VTIMEZONE
BEGIN:VEVENT
DTSTART;VALUE=DATE:20260519
DTEND;VALUE=DATE:20260526
DTSTAMP:20260421T122116
CREATED:20260326T145230Z
LAST-MODIFIED:20260326T145230Z
UID:881-1779148800-1779753599@monniere.ca
SUMMARY:Dépistage auditif au Carrefour de l'Estrie
DESCRIPTION:Dépistage auditif sans frais au Carrefour de l’Estrie près du Bentley et du Pandora.\nDu mardi 19 mai au lundi 25 mai 2026.\nPassez nous voir !\nTél. : 819 566-5661    ou   Sans frais : 1 800 465-4959
URL:https://monniere.ca/evenement/depistage-auditif-au-carrefour-de-lestrie/
LOCATION:Carrefour de l’Estrie\, 3050\, boul. de Portland\, Sherbrooke\, QC\, J1L 1K1\, Canada
END:VEVENT
BEGIN:VEVENT
DTSTART;VALUE=DATE:20260601
DTEND;VALUE=DATE:20260608
DTSTAMP:20260421T122116
CREATED:20260326T145547Z
LAST-MODIFIED:20260326T145547Z
UID:983-1780272000-1780876799@monniere.ca
SUMMARY:Dépistage auditif aux Galeries St-Hyacinthe
DESCRIPTION:Dépistage auditif sans frais aux Galeries St-HyacintheDu 1er au 7 juin 2026\nPrès du LIVOM \nTél. : 450 774-0234\nPassez nous voir !
URL:https://monniere.ca/evenement/depistage-auditif-aux-galeries-st-hyacinthe/
LOCATION:Galeries St-Hyacinthe\, 3200\, boul. Laframboise\, Saint-Hyacinthe\, QC\, J2S 4Z5\, Canada
END:VEVENT
END:VCALENDAR